{"text_format":"1","workbook":"xlsx","n_sheets":7,"sheets":["Inscription","Loueurs","Reservations","Hebdo","dates","activité","listes"],"not_rendered":{"charts":1,"images":3,"macros":1,"external_links":0,"defined_names":1,"comments":1,"pivot_tables":1},"unopened":[],"bounds":{"document_bytes":16777216,"sheet_cells":100000,"rows_first":2000,"rows_last":500,"rows_between":2000,"halvings":0,"cell_chars":16384,"cell_head_chars":4096},"cells_cut":0,"cells_raw":0,"read":"whole","date_system":"1900"}

{"sheet":"Inscription","index":0,"n_rows":47,"n_cols":7,"rows_kept":47,"cut":false,"hidden":false,"merged":[[41,4,41,5],[6,1,6,2],[6,3,6,4],[6,5,6,6],[7,1,7,2],[7,3,7,4],[7,5,7,6]]}
[]
[]
[]
[]
[null,null,"Inscription voile loisir",null,null,2023]
[]
[null,"Nom",null,"Prénom",null,"Date de naissance"]
[null,"DUPONT",null,"Jean",null,"15/12/1988"]
[]
[]
[null,"Adresse de vacances ou l'on peut vous joindre :"]
[null,"Adresse :    ….....................................................................","1 rue du peuplier",null,null,"Téléphone ….......................","06 06 05 06 05"]
[null,"Ville :    ….........................................................................."," PJOUTE",null,null,"Code Postal   …....................",87850]
[null,"…....................................................................................................................................."]
[]
[null,"Tarifs","PAV/Stand up/\n Canoë","Dériveur / \nFunboat","Catamaran","Dériveur \nCollectif","Total"]
[null,"1 heure",15,25,40,30]
[null,"2 heures",25,35,65,45]
[null,"4 heures",35,50,90,65]
[]
[null,"1- Je déclare dégager le Club de voile",null,null,"de toute responsabilité en cas de dommages corporels."]
[null,"2-Je déclare savoir nager (pouvoir s'immerger et nager 25 mètres au minimum) et n'avoir aucune"]
[null," contre indication à la pratique de ce sport."]
[null,"3- Je déclare connaître tous les risques de ce sport."]
[null,"4-Je déclare avoir souscrit une assurance responsabilité civile pour les dommages corporels."]
[null,"5- Je m'engage à porter le gilet."]
[null,"6-Pas plus de 3 personnes sur le catamaran"]
[null,"7-Une même location ne peut faire l'objet d'une répartition sur plusieurs séances. Ainsi,"]
[null,"la location sur 4 heures s'entend de 10h à 14 h ou de 14h à 18h, sans interruption."]
[]
[null,"Piéce d'identité et caution de 200€ pour les catamarans et de 100€ pour les PAV et dériveurs"]
[]
[null,"Date et signature (nom, prénom et signature des parents pour les mineurs)"]
[]
[null,null,null,null,null,"Cadre réservé à la comptabilité"]
[null,null,null,"Date de règlement"]
[null,null,null,"Montant en espèces"]
[null,null,null,"Chèques vacances"]
[null,null,null,"Nom de la Banque",null,"chèque N°"]
[null,null,null,"Nom chèque"]
[null,"Heure de départ :"]
[null,null,null,null,"Heures restantes *"]
[null,null,null,null,"4 heures"]
[null,null,null,null,"3 heures"]
[null,null,null,null,"2 heures"]
[null,null,null,null,"1 heure"]
[null,"* Uniquement en cas de rappel à terre avant le terme de la location, décidé à l'initiative du personnel du Club de voile"]

{"sheet":"Loueurs","index":1,"n_rows":8,"n_cols":9,"rows_kept":8,"cut":false,"hidden":false,"merged":[]}
["Matric\nloueur","Nom","Prénom","Date \nnaissance","N° et rue","CP Ville","Tél loueur",null,5]
[null,"DUPONT","Jean","15/12/1988","1 rue du peuplier","87850 PJOUTE","06 06 05 06 05"]
[null,"DURAND","Dan","1976-03-03","1 rue des pins","58990 ASEZ","07 15 14 17 18"]
["N1P1","NOM1","Prénom1","2000-01-15","1 rue du tilleul","50200 DERTUO","07 05 04 03 02"]
["N1P2","NOM2","Prénom2","1985-06-02","2 rue du tilleul","69015 GERTRE","06 95 98 97 94"]
["N1P3","NOM3","Prénom3","1995-12-07","3 rue du tilleul","95470 BOUTAS","01 45 15 19 18"]
["N1P4","NOM4","Prénom4","1975-06-12","4 rue du tilleul","32150 FERMOIS","05 14 15 16 17"]
["N1P5","NOM5","Prénom5","1999-08-15","5 rue du tilleul","25840 GONEZ","07 04 08 09 10"]

{"sheet":"Reservations","index":2,"n_rows":30,"n_cols":11,"rows_kept":30,"cut":false,"hidden":false,"merged":[]}
["Embarc","ref \nReserv.","NOM Prénom","date résa","heure départ ","heure retour ","Observations","durée","Semaine",null,2]
["CAT2","R11","NOM4 Prénom4","2023-06-19",11,13,null,2,25]
["CAT4","R23","NOM3 Prénom3","2023-07-01",16,18,null,2,26]
["DRV1","R12","NOM4 Prénom4","2023-07-01",10,11,null,1,26]
["DRV1","R14","NOM1 Prénom1","2023-07-01",11,14,"2 occupants",3,26]
["CAT3","R5","NOM3 Prénom3","2023-07-08",12,14,null,2,27]
["CAT1","R1","NOM2 Prénom2","2023-07-09",10,11,null,1,28]
["DRV1","R19","NOM1 Prénom1","2023-07-09",12,14,null,2,28]
["CAT4","R6","NOM1 Prénom1","2023-07-12",15,17,"4 occupants",2,28]
["DRV1","R21","NOM1 Prénom1","2023-07-12",11,13,"4 occupants",2,28]
["DRV1","R31","DERTU Jean","2023-07-12",10,11,null,0,28]
["DRV1","R8","NOM4 Prénom4","2023-07-18",10,11,null,1,29]
["DRV1","R3","NOM2 Prénom2","2023-07-24",10,15,null,4,30]
["CAT3","R4","NOM2 Prénom2","2023-08-01",11,14,null,4,31]
["CAT3","R9","NOM3 Prénom3","2023-08-01",15,18,null,2,31]
["CAT3","R31","NOM1 Prénom1","2023-08-01",10,11,null,1,31]
["DRV1","R15","NOM1 Prénom1","2023-08-01",12,13,null,1,31]
["CAT2","R28","NOM1 Prénom1","2023-08-02",11,12,null,1,31]
["DRV1","R20","NOM4 Prénom4","2023-08-03",14,16,null,2,31]
["CAT3","R32","NOM5 Prénom5","2023-08-05",13,14,"2 occupants",1,31]
["CAT1","R26","NOM1 Prénom1","2023-08-09",15,18,null,3,32]
["CAT2","R25","NOM2 Prénom2","2023-08-10",14,17,"3 occupants",3,32]
["CAT3","R27","NOM2 Prénom2","2023-08-14",17,18,null,1,33]
["CAT1","R22","NOM3 Prénom3","2023-08-15",10,14,null,3,33]
["CAT4","R30","DERTU Jean","2023-08-15",11,12,null,1,33]
["CAT1","R24","NOM1 Prénom1","2023-08-18",15,18,null,3,33]
["DRV1","R13","NOM5 Prénom5","2023-08-18",10,12,null,2,33]
["CAT2","R2","NOM4 Prénom4","2023-08-22",10,11,"3 occupants",1,34]
["DRV1","R16","NOM3 Prénom3","2023-08-28",15,17,null,2,35]
["CAT1","R10","NOM1 Prénom1","2023-09-11",14,16,"1 occupant",2,37]

{"sheet":"Hebdo","index":3,"n_rows":32,"n_cols":38,"rows_kept":32,"cut":false,"hidden":false,"merged":[]}
[2023,"lun.","lun.","lun.","lun.","lun.","mar.","mar.","mar.","mar.","mar.","mer.","mer.","mer.","mer.","mer.","jeu.","jeu.","jeu.","jeu.","jeu.","ven.","ven.","ven.","ven.","ven.","sam.","sam.","sam.","sam.","sam.","dim.","dim.","dim.","dim.","dim.",null,6]
["Juillet","2023-07-03","2023-07-03","2023-07-03","2023-07-03","2023-07-03","2023-07-04","2023-07-04","2023-07-04","2023-07-04","2023-07-04","2023-07-05","2023-07-05","2023-07-05","2023-07-05","2023-07-05","2023-07-06","2023-07-06","2023-07-06","2023-07-06","2023-07-06","2023-07-07","2023-07-07","2023-07-07","2023-07-07","2023-07-07","2023-07-08","2023-07-08","2023-07-08","2023-07-08","2023-07-08","2023-07-09","2023-07-09","2023-07-09","2023-07-09","2023-07-09"]
["S. 27","CAT1","CAT2","CAT3","CAT4","DRV1","CAT1","CAT2","CAT3","CAT4","DRV1","CAT1","CAT2","CAT3","CAT4","DRV1","CAT1","CAT2","CAT3","CAT4","DRV1","CAT1","CAT2","CAT3","CAT4","DRV1","CAT1","CAT2","CAT3","CAT4","DRV1","CAT1","CAT2","CAT3","CAT4","DRV1"]
["10h-11h"]
["11h-12h"]
["12h-13h",null,null,null,null,null,null,null,null,null,null,null,null,null,null,null,null,null,null,null,null,null,null,null,null,null,null,null,"R5"]
["13h-14h",null,null,null,null,null,null,null,null,null,null,null,null,null,null,null,null,null,null,null,null,null,null,null,null,null,null,null,"R5"]
["14h-15h"]
["15h-16h"]
["16h-17h"]
["17h-18h"]
[]
[]
[]
[]
[]
[]
[]
[]
[]
[]
[]
[]
[]
[]
[]
[]
[]
[]
[]
[]
[7]

{"sheet":"dates","index":4,"n_rows":2012,"n_cols":12,"rows_kept":2012,"cut":false,"hidden":false,"merged":[[0,6,0,7],[5,0,5,1]]}
["Année","Mois ",null,"Mois1","Mois2","Nbre jours","Jours fériés",null,"Heures",null,"semaine","lundis"]
[2023,7,null,"Juin",6,30,"Fête Nationale",{"$f":" DATE($A$2,7,14)","v":"2023-07-14"},9,null,25,"2023-06-19"]
["Date début semaine","semaine mois",null,"Juillet",7,31,"Assomption",{"$f":" DATE($A$2,8,15)","v":"2023-08-15"},10,null,26,"2023-06-26"]
["2023-07-03",27,null,"Août",8,31,null,null,11,null,27,"2023-07-03"]
[null,null,null,"Sept.",9,30,null,null,12,null,28,"2023-07-10"]
["Calendrier mois",null,null,null,null,null,null,null,13,null,29,"2023-07-17"]
["Premier jour du mois",{"$f":"DATE(A2,B2,1)","v":"2023-07-01"},null,null,null,null,null,null,14,null,30,"2023-07-24"]
["Dernier jour du mois",{"$f":"EOMONTH(B7,0)","v":"2023-07-31"},null,null,"pe",null,null,null,15,null,31,"2023-07-31"]
["Jour de la semaine du premier jour du mois",{"$f":"WEEKDAY(B7,2)","v":6},null,null,null,null,null,null,16,null,32,"2023-08-07"]
[null,null,null,null,null,null,null,null,17,null,33,"2023-08-14"]
["Date jour","semaine actuelle",null,null,null,null,null,null,18,null,34,"2023-08-21"]
[{"$f":"TODAY()","v":"2023-02-18"},{"$f":"WEEKNUM(A12)","v":7},null,null,null,null,null,null,null,null,35,"2023-08-28"]
[null,null,null,null,null,null,null,null,null,null,36,"2023-09-04"]
[null,null,null,null,null,null,null,null,null,null,37,"2023-09-11"]
[]
[]
[]
[]
[]
[]
[]
[]
[]
[]
[]
[]
[]
[]
[]
[]
[]
[]
[]
[]
[]
[]
[]
[]
[]
[]
[]
[]
[]
[]
[]
[]
[]
[]
[]
[]
[]
[]
[]
[]
[]
[]
[]
[]
[]
[]
[]
[]
[]
[]
[]
[]
[]
[]
[]
[]
[]
[]
[]
[]
[]
[]
[]
[]
[]
[]
[]
[]
[]
[]
[]
[]
[]
[]
[]
[]
[]
[]
[]
[]
[]
[]
[]
[]
[]
[]
[]
[]
[]
[]
[]
[]
[]
[]
[]
[]
[]
[]
[]
[]
[]
[]
[]
[]
[]
[]
[]
[]
[]
[]
[]
[]
[]
[]
[]
[]
[]
[]
[]
[]
[]
[]
[]
[]
[]
[]
[]
[]
[]
[]
[]
[]
[]
[]
[]
[]
[]
[]
[]
[]
[]
[]
[]
[]
[]
[]
[]
[]
[]
[]
[]
[]
[]
[]
[]
[]
[]
[]
[]
[]
[]
[]
[]
[]
[]
[]
[]
[]
[]
[]
[]
[]
[]
[]
[]
[]
[]
[]
[]
[]
[]
[]
[]
[]
[]
[]
[]
[]
[]
[]
[]
[]
[]
[]
[]
[]
[]
[]
[]
[]
[]
[]
[]
[]
[]
[]
[]
[]
[]
[]
[]
[]
[]
[]
[]
[]
[]
[]
[]
[]
[]
[]
[]
[]
[]
[]
[]
[]
[]
[]
[]
[]
[]
[]
[]
[]
[]
[]
[]
[]
[]
[]
[]
[]
[]
[]
[]
[]
[]
[]
[]
[]
[]
[]
[]
[]
[]
[]
[]
[]
[]
[]
[]
[]
[]
[]
[]
[]
[]
[]
[]
[]
[]
[]
[]
[]
[]
[]
[]
[]
[]
[]
[]
[]
[]
[]
[]
[]
[]
[]
[]
[]
[]
[]
[]
[]
[]
[]
[]
[]
[]
[]
[]
[]
[]
[]
[]
[]
[]
[]
[]
[]
[]
[]
[]
[]
[]
[]
[]
[]
[]
[]
[]
[]
[]
[]
[]
[]
[]
[]
[]
[]
[]
[]
[]
[]
[]
[]
[]
[]
[]
[]
[]
[]
[]
[]
[]
[]
[]
[]
[]
[]
[]
[]
[]
[]
[]
[]
[]
[]
[]
[]
[]
[]
[]
[]
[]
[]
[]
[]
[]
[]
[]
[]
[]
[]
[]
[]
[]
[]
[]
[]
[]
[]
[]
[]
[]
[]
[]
[]
[]
[]
[]
[]
[]
[]
[]
[]
[]
[]
[]
[]
[]
[]
[]
[]
[]
[]
[]
[]
[]
[]
[]
[]
[]
[]
[]
[]
[]
[]
[]
[]
[]
[]
[]
[]
[]
[]
[]
[]
[]
[]
[]
[]
[]
[]
[]
[]
[]
[]
[]
[]
[]
[]
[]
[]
[]
[]
[]
[]
[]
[]
[]
[]
[]
[]
[]
[]
[]
[]
[]
[]
[]
[]
[]
[]
[]
[]
[]
[]
[]
[]
[]
[]
[]
[]
[]
[]
[]
[]
[]
[]
[]
[]
[]
[]
[]
[]
[]
[]
[]
[]
[]
[]
[]
[]
[]
[]
[]
[]
[]
[]
[]
[]
[]
[]
[]
[]
[]
[]
[]
[]
[]
[]
[]
[]
[]
[]
[]
[]
[]
[]
[]
[]
[]
[]
[]
[]
[]
[]
[]
[]
[]
[]
[]
[]
[]
[]
[]
[]
[]
[]
[]
[]
[]
[]
[]
[]
[]
[]
[]
[]
[]
[]
[]
[]
[]
[]
[]
[]
[]
[]
[]
[]
[]
[]
[]
[]
[]
[]
[]
[]
[]
[]
[]
[]
[]
[]
[]
[]
[]
[]
[]
[]
[]
[]
[]
[]
[]
[]
[]
[]
[]
[]
[]
[]
[]
[]
[]
[]
[]
[]
[]
[]
[]
[]
[]
[]
[]
[]
[]
[]
[]
[]
[]
[]
[]
[]
[]
[]
[]
[]
[]
[]
[]
[]
[]
[]
[]
[]
[]
[]
[]
[]
[]
[]
[]
[]
[]
[]
[]
[]
[]
[]
[]
[]
[]
[]
[]
[]
[]
[]
[]
[]
[]
[]
[]
[]
[]
[]
[]
[]
[]
[]
[]
[]
[]
[]
[]
[]
[]
[]
[]
[]
[]
[]
[]
[]
[]
[]
[]
[]
[]
[]
[]
[]
[]
[]
[]
[]
[]
[]
[]
[]
[]
[]
[]
[]
[]
[]
[]
[]
[]
[]
[]
[]
[]
[]
[]
[]
[]
[]
[]
[]
[]
[]
[]
[]
[]
[]
[]
[]
[]
[]
[]
[]
[]
[]
[]
[]
[]
[]
[]
[]
[]
[]
[]
[]
[]
[]
[]
[]
[]
[]
[]
[]
[]
[]
[]
[]
[]
[]
[]
[]
[]
[]
[]
[]
[]
[]
[]
[]
[]
[]
[]
[]
[]
[]
[]
[]
[]
[]
[]
[]
[]
[]
[]
[]
[]
[]
[]
[]
[]
[]
[]
[]
[]
[]
[]
[]
[]
[]
[]
[]
[]
[]
[]
[]
[]
[]
[]
[]
[]
[]
[]
[]
[]
[]
[]
[]
[]
[]
[]
[]
[]
[]
[]
[]
[]
[]
[]
[]
[]
[]
[]
[]
[]
[]
[]
[]
[]
[]
[]
[]
[]
[]
[]
[]
[]
[]
[]
[]
[]
[]
[]
[]
[]
[]
[]
[]
[]
[]
[]
[]
[]
[]
[]
[]
[]
[]
[]
[]
[]
[]
[]
[]
[]
[]
[]
[]
[]
[]
[]
[]
[]
[]
[]
[]
[]
[]
[]
[]
[]
[]
[]
[]
[]
[]
[]
[]
[]
[]
[]
[]
[]
[]
[]
[]
[]
[]
[]
[]
[]
[]
[]
[]
[]
[]
[]
[]
[]
[]
[]
[]
[]
[]
[]
[]
[]
[]
[]
[]
[]
[]
[]
[]
[]
[]
[]
[]
[]
[]
[]
[]
[]
[]
[]
[]
[]
[]
[]
[]
[]
[]
[]
[]
[]
[]
[]
[]
[]
[]
[]
[]
[]
[]
[]
[]
[]
[]
[]
[]
[]
[]
[]
[]
[]
[]
[]
[]
[]
[]
[]
[]
[]
[]
[]
[]
[]
[]
[]
[]
[]
[]
[]
[]
[]
[]
[]
[]
[]
[]
[]
[]
[]
[]
[]
[]
[]
[]
[]
[]
[]
[]
[]
[]
[]
[]
[]
[]
[]
[]
[]
[]
[]
[]
[]
[]
[]
[]
[]
[]
[]
[]
[]
[]
[]
[]
[]
[]
[]
[]
[]
[]
[]
[]
[]
[]
[]
[]
[]
[]
[]
[]
[]
[]
[]
[]
[]
[]
[]
[]
[]
[]
[]
[]
[]
[]
[]
[]
[]
[]
[]
[]
[]
[]
[]
[]
[]
[]
[]
[]
[]
[]
[]
[]
[]
[]
[]
[]
[]
[]
[]
[]
[]
[]
[]
[]
[]
[]
[]
[]
[]
[]
[]
[]
[]
[]
[]
[]
[]
[]
[]
[]
[]
[]
[]
[]
[]
[]
[]
[]
[]
[]
[]
[]
[]
[]
[]
[]
[]
[]
[]
[]
[]
[]
[]
[]
[]
[]
[]
[]
[]
[]
[]
[]
[]
[]
[]
[]
[]
[]
[]
[]
[]
[]
[]
[]
[]
[]
[]
[]
[]
[]
[]
[]
[]
[]
[]
[]
[]
[]
[]
[]
[]
[]
[]
[]
[]
[]
[]
[]
[]
[]
[]
[]
[]
[]
[]
[]
[]
[]
[]
[]
[]
[]
[]
[]
[]
[]
[]
[]
[]
[]
[]
[]
[]
[]
[]
[]
[]
[]
[]
[]
[]
[]
[]
[]
[]
[]
[]
[]
[]
[]
[]
[]
[]
[]
[]
[]
[]
[]
[]
[]
[]
[]
[]
[]
[]
[]
[]
[]
[]
[]
[]
[]
[]
[]
[]
[]
[]
[]
[]
[]
[]
[]
[]
[]
[]
[]
[]
[]
[]
[]
[]
[]
[]
[]
[]
[]
[]
[]
[]
[]
[]
[]
[]
[]
[]
[]
[]
[]
[]
[]
[]
[]
[]
[]
[]
[]
[]
[]
[]
[]
[]
[]
[]
[]
[]
[]
[]
[]
[]
[]
[]
[]
[]
[]
[]
[]
[]
[]
[]
[]
[]
[]
[]
[]
[]
[]
[]
[]
[]
[]
[]
[]
[]
[]
[]
[]
[]
[]
[]
[]
[]
[]
[]
[]
[]
[]
[]
[]
[]
[]
[]
[]
[]
[]
[]
[]
[]
[]
[]
[]
[]
[]
[]
[]
[]
[]
[]
[]
[]
[]
[]
[]
[]
[]
[]
[]
[]
[]
[]
[]
[]
[]
[]
[]
[]
[]
[]
[]
[]
[]
[]
[]
[]
[]
[]
[]
[]
[]
[]
[]
[]
[]
[]
[]
[]
[]
[]
[]
[]
[]
[]
[]
[]
[]
[]
[]
[]
[]
[]
[]
[]
[]
[]
[]
[]
[]
[]
[]
[]
[]
[]
[]
[]
[]
[]
[]
[]
[]
[]
[]
[]
[]
[]
[]
[]
[]
[]
[]
[]
[]
[]
[]
[]
[]
[]
[]
[]
[]
[]
[]
[]
[]
[]
[]
[]
[]
[]
[]
[]
[]
[]
[]
[]
[]
[]
[]
[]
[]
[]
[]
[]
[]
[]
[]
[]
[]
[]
[]
[]
[]
[]
[]
[]
[]
[]
[]
[]
[]
[]
[]
[]
[]
[]
[]
[]
[]
[]
[]
[]
[]
[]
[]
[]
[]
[]
[]
[]
[]
[]
[]
[]
[]
[]
[]
[]
[]
[]
[]
[]
[]
[]
[]
[]
[]
[]
[]
[]
[]
[]
[]
[]
[]
[]
[]
[]
[]
[]
[]
[]
[]
[]
[]
[]
[]
[]
[]
[]
[]
[]
[]
[]
[]
[]
[]
[]
[]
[]
[]
[]
[]
[]
[]
[]
[]
[]
[]
[]
[]
[]
[]
[]
[]
[]
[]
[]
[]
[]
[]
[]
[]
[]
[]
[]
[]
[]
[]
[]
[]
[]
[]
[]
[]
[]
[]
[]
[]
[]
[]
[]
[]
[]
[]
[]
[]
[]
[]
[]
[]
[]
[]
[]
[]
[]
[]
[]
[]
[]
[]
[]
[]
[]
[]
[]
[]
[]
[]
[]
[]
[]
[]
[]
[]
[]
[]
[]
[]
[]
[]
[]
[]
[]
[]
[]
[]
[]
[]
[]
[]
[]
[]
[]
[]
[]
[]
[]
[]
[]
[]
[]
[]
[]
[]
[]
[]
[]
[]
[]
[]
[]
[]
[]
[]
[]
[]
[]
[]
[]
[]
[]
[]
[]
[]
[]
[]
[]
[]
[]
[]
[]
[]
[]
[]
[]
[]
[]
[]
[]
[]
[]
[]
[]
[]
[]
[]
[]
[]
[]
[]
[]
[]
[]
[]
[]
[]
[]
[]
[]
[]
[]
[]
[]
[]
[]
[]
[]
[]
[]
[]
[]
[]
[]
[]
[]
[]
[]
[]
[]
[]
[]
[]
[]
[]
[]
[]
[]
[]
[]
[]
[]
[]
[]
[]
[]
[]
[]
[]
[]
[]
[]
[]
[]
[]
[]
[]
[]
[]
[]
[]
[]
[]
[]
[]
[]
[]
[]
[]
[]
[]
[]
[]
[]
[]
[]
[]
[]
[]
[]
[]
[]
[]
[]
[]
[]
[]
[]
[]
[]
[]
[]
[]
[]
[]
[]
[]
[]
[]
[]
[]
[]
[]
[]
[]
[]
[]
[]
[]
[]
[]
[]
[]
[]
[]
[]
[]
[]
[]
[]
[]
[]
[]
[]
[]
[]
[]
[]
[]
[]
[]
[]
[]
[]
[]
[]
[]
[]
[]
[]
[]
[]
[]
[]
[]
[]
[]
[]
[]
[]
[]
[]
[]
[]
[]
[]
[]
[]
[]
[]
[]
[]
[]
[]
[]
[]
[]
[]
[]
[]
[]
[]
[]
[]
[]
[]
[]
[]
[]
[]
[]
[]
[]
[]
[]
[]
[]
[]
[]
[]
[]
[]
[]
[]
[]
[]
[]
[]
[]
[]
[]
[]
[]
[]
[]
[]
[]
[]
[]
[]
[]
[]
[]
[]
[]
[]
[]
[]
[]
[]
[]
[]
[]
[]
[]
[]
[]
[]
[]
[]
[]
[]
[]
[]
[]
[]
[]
[]
[]
[]
[]
[]
[]
[]
[]
[]
[]
[]
[]
[]
[]
[]
[]
[]
[]
[]
[]
[]
[]
[]
[]
[]
[]
[]
[]
[]
[]
[]
[]
[]
[]
[]
[]
[]
[]
[]
[]
[]
[]
[]
[]
[]
[]
[]
[]
[]
[]
[]
[]
[]
[]
[]
[]
[]
[]
[]
[null,null,null,null,null,28]

{"sheet":"activité","index":5,"n_rows":18,"n_cols":16,"rows_kept":18,"cut":false,"hidden":false,"merged":[[3,2,3,3],[13,4,13,7],[3,13,3,14],[3,8,3,12],[13,8,13,12],[3,4,3,7]]}
[]
[null,null,null,null,null,null,"Nombres d'heures par semaine par embarcation"]
[]
[null,null,"juin",null,"Juillet",null,null,null,"Aout",null,null,null,null,"septembre"]
[null,"Semaines",25,26,27,28,29,30,31,32,33,34,35,36,37]
[null,"CAT1",{"$f":"SUMIFS(Reservations!$H:$H,Reservations!$I:$I,C$5,Reservations!$A:$A,$B6)","v":0},{"$f":"SUMIFS(Reservations!$H:$H,Reservations!$I:$I,D$5,Reservations!$A:$A,$B6)","v":0},{"$f":"SUMIFS(Reservations!$H:$H,Reservations!$I:$I,E$5,Reservations!$A:$A,$B6)","v":0},{"$f":"SUMIFS(Reservations!$H:$H,Reservations!$I:$I,F$5,Reservations!$A:$A,$B6)","v":1},{"$f":"SUMIFS(Reservations!$H:$H,Reservations!$I:$I,G$5,Reservations!$A:$A,$B6)","v":0},{"$f":"SUMIFS(Reservations!$H:$H,Reservations!$I:$I,H$5,Reservations!$A:$A,$B6)","v":0},{"$f":"SUMIFS(Reservations!$H:$H,Reservations!$I:$I,I$5,Reservations!$A:$A,$B6)","v":0},{"$f":"SUMIFS(Reservations!$H:$H,Reservations!$I:$I,J$5,Reservations!$A:$A,$B6)","v":3},{"$f":"SUMIFS(Reservations!$H:$H,Reservations!$I:$I,K$5,Reservations!$A:$A,$B6)","v":6},{"$f":"SUMIFS(Reservations!$H:$H,Reservations!$I:$I,L$5,Reservations!$A:$A,$B6)","v":0},{"$f":"SUMIFS(Reservations!$H:$H,Reservations!$I:$I,M$5,Reservations!$A:$A,$B6)","v":0},{"$f":"SUMIFS(Reservations!$H:$H,Reservations!$I:$I,N$5,Reservations!$A:$A,$B6)","v":0},{"$f":"SUMIFS(Reservations!$H:$H,Reservations!$I:$I,O$5,Reservations!$A:$A,$B6)","v":2},{"$f":"SUM(C6:O6)","v":12}]
[null,"CAT2",{"$f":"SUMIFS(Reservations!$H:$H,Reservations!$I:$I,C$5,Reservations!$A:$A,$B7)","v":2},{"$f":"SUMIFS(Reservations!$H:$H,Reservations!$I:$I,D$5,Reservations!$A:$A,$B7)","v":0},{"$f":"SUMIFS(Reservations!$H:$H,Reservations!$I:$I,E$5,Reservations!$A:$A,$B7)","v":0},{"$f":"SUMIFS(Reservations!$H:$H,Reservations!$I:$I,F$5,Reservations!$A:$A,$B7)","v":0},{"$f":"SUMIFS(Reservations!$H:$H,Reservations!$I:$I,G$5,Reservations!$A:$A,$B7)","v":0},{"$f":"SUMIFS(Reservations!$H:$H,Reservations!$I:$I,H$5,Reservations!$A:$A,$B7)","v":0},{"$f":"SUMIFS(Reservations!$H:$H,Reservations!$I:$I,I$5,Reservations!$A:$A,$B7)","v":1},{"$f":"SUMIFS(Reservations!$H:$H,Reservations!$I:$I,J$5,Reservations!$A:$A,$B7)","v":3},{"$f":"SUMIFS(Reservations!$H:$H,Reservations!$I:$I,K$5,Reservations!$A:$A,$B7)","v":0},{"$f":"SUMIFS(Reservations!$H:$H,Reservations!$I:$I,L$5,Reservations!$A:$A,$B7)","v":1},{"$f":"SUMIFS(Reservations!$H:$H,Reservations!$I:$I,M$5,Reservations!$A:$A,$B7)","v":0},{"$f":"SUMIFS(Reservations!$H:$H,Reservations!$I:$I,N$5,Reservations!$A:$A,$B7)","v":0},{"$f":"SUMIFS(Reservations!$H:$H,Reservations!$I:$I,O$5,Reservations!$A:$A,$B7)","v":0},{"$f":"SUM(C7:O7)","v":7}]
[null,"CAT3",{"$f":"SUMIFS(Reservations!$H:$H,Reservations!$I:$I,C$5,Reservations!$A:$A,$B8)","v":0},{"$f":"SUMIFS(Reservations!$H:$H,Reservations!$I:$I,D$5,Reservations!$A:$A,$B8)","v":0},{"$f":"SUMIFS(Reservations!$H:$H,Reservations!$I:$I,E$5,Reservations!$A:$A,$B8)","v":2},{"$f":"SUMIFS(Reservations!$H:$H,Reservations!$I:$I,F$5,Reservations!$A:$A,$B8)","v":0},{"$f":"SUMIFS(Reservations!$H:$H,Reservations!$I:$I,G$5,Reservations!$A:$A,$B8)","v":0},{"$f":"SUMIFS(Reservations!$H:$H,Reservations!$I:$I,H$5,Reservations!$A:$A,$B8)","v":0},{"$f":"SUMIFS(Reservations!$H:$H,Reservations!$I:$I,I$5,Reservations!$A:$A,$B8)","v":8},{"$f":"SUMIFS(Reservations!$H:$H,Reservations!$I:$I,J$5,Reservations!$A:$A,$B8)","v":0},{"$f":"SUMIFS(Reservations!$H:$H,Reservations!$I:$I,K$5,Reservations!$A:$A,$B8)","v":1},{"$f":"SUMIFS(Reservations!$H:$H,Reservations!$I:$I,L$5,Reservations!$A:$A,$B8)","v":0},{"$f":"SUMIFS(Reservations!$H:$H,Reservations!$I:$I,M$5,Reservations!$A:$A,$B8)","v":0},{"$f":"SUMIFS(Reservations!$H:$H,Reservations!$I:$I,N$5,Reservations!$A:$A,$B8)","v":0},{"$f":"SUMIFS(Reservations!$H:$H,Reservations!$I:$I,O$5,Reservations!$A:$A,$B8)","v":0},{"$f":"SUM(C8:O8)","v":11}]
[null,"CAT4",{"$f":"SUMIFS(Reservations!$H:$H,Reservations!$I:$I,C$5,Reservations!$A:$A,$B9)","v":0},{"$f":"SUMIFS(Reservations!$H:$H,Reservations!$I:$I,D$5,Reservations!$A:$A,$B9)","v":2},{"$f":"SUMIFS(Reservations!$H:$H,Reservations!$I:$I,E$5,Reservations!$A:$A,$B9)","v":0},{"$f":"SUMIFS(Reservations!$H:$H,Reservations!$I:$I,F$5,Reservations!$A:$A,$B9)","v":2},{"$f":"SUMIFS(Reservations!$H:$H,Reservations!$I:$I,G$5,Reservations!$A:$A,$B9)","v":0},{"$f":"SUMIFS(Reservations!$H:$H,Reservations!$I:$I,H$5,Reservations!$A:$A,$B9)","v":0},{"$f":"SUMIFS(Reservations!$H:$H,Reservations!$I:$I,I$5,Reservations!$A:$A,$B9)","v":0},{"$f":"SUMIFS(Reservations!$H:$H,Reservations!$I:$I,J$5,Reservations!$A:$A,$B9)","v":0},{"$f":"SUMIFS(Reservations!$H:$H,Reservations!$I:$I,K$5,Reservations!$A:$A,$B9)","v":1},{"$f":"SUMIFS(Reservations!$H:$H,Reservations!$I:$I,L$5,Reservations!$A:$A,$B9)","v":0},{"$f":"SUMIFS(Reservations!$H:$H,Reservations!$I:$I,M$5,Reservations!$A:$A,$B9)","v":0},{"$f":"SUMIFS(Reservations!$H:$H,Reservations!$I:$I,N$5,Reservations!$A:$A,$B9)","v":0},{"$f":"SUMIFS(Reservations!$H:$H,Reservations!$I:$I,O$5,Reservations!$A:$A,$B9)","v":0},{"$f":"SUM(C9:O9)","v":5}]
[null,"DRV1",{"$f":"SUMIFS(Reservations!$H:$H,Reservations!$I:$I,C$5,Reservations!$A:$A,$B10)","v":0},{"$f":"SUMIFS(Reservations!$H:$H,Reservations!$I:$I,D$5,Reservations!$A:$A,$B10)","v":4},{"$f":"SUMIFS(Reservations!$H:$H,Reservations!$I:$I,E$5,Reservations!$A:$A,$B10)","v":0},{"$f":"SUMIFS(Reservations!$H:$H,Reservations!$I:$I,F$5,Reservations!$A:$A,$B10)","v":4},{"$f":"SUMIFS(Reservations!$H:$H,Reservations!$I:$I,G$5,Reservations!$A:$A,$B10)","v":1},{"$f":"SUMIFS(Reservations!$H:$H,Reservations!$I:$I,H$5,Reservations!$A:$A,$B10)","v":4},{"$f":"SUMIFS(Reservations!$H:$H,Reservations!$I:$I,I$5,Reservations!$A:$A,$B10)","v":3},{"$f":"SUMIFS(Reservations!$H:$H,Reservations!$I:$I,J$5,Reservations!$A:$A,$B10)","v":0},{"$f":"SUMIFS(Reservations!$H:$H,Reservations!$I:$I,K$5,Reservations!$A:$A,$B10)","v":2},{"$f":"SUMIFS(Reservations!$H:$H,Reservations!$I:$I,L$5,Reservations!$A:$A,$B10)","v":0},{"$f":"SUMIFS(Reservations!$H:$H,Reservations!$I:$I,M$5,Reservations!$A:$A,$B10)","v":2},{"$f":"SUMIFS(Reservations!$H:$H,Reservations!$I:$I,N$5,Reservations!$A:$A,$B10)","v":0},{"$f":"SUMIFS(Reservations!$H:$H,Reservations!$I:$I,O$5,Reservations!$A:$A,$B10)","v":0},{"$f":"SUM(C10:O10)","v":20}]
[null,"Total semaine",{"$f":"SUM(C6:C10)","v":2},{"$f":"SUM(D6:D10)","v":6},2,7,1,4,12,6,10,1,2,0,2,{"$f":"SUM(P6:P10)","v":55}]
[null,"7 heures x 5 embarc",35,35,35,35,35,35,35,35,35,35,35,35,35]
[null,"taux occupation semaine ",{"$f":"+C11/C12","v":5.7142857142857141E-2},{"$f":"+D11/D12","v":0.17142857142857143},{"$f":"+E11/E12","v":5.7142857142857141E-2},0.2,2.8571428571428571E-2,0.11428571428571428,0.34285714285714286,0.17142857142857143,0.2857142857142857,2.8571428571428571E-2,5.7142857142857141E-2,0,5.7142857142857141E-2]
[null,"taux occupation",null,null,{"$f":"AVERAGE(E13:H13)","v":0.1},null,null,null,{"$f":"AVERAGE(I13:M13)","v":0.17714285714285713}]
[null,null,"Semaines","taux occupation semaine "]
[]
[null,null,"Somme de 27","Somme de 28","Somme de 29","Somme de 30","Somme de 31","Somme de 32","Somme de 33","Somme de 34","Somme de 35"]
[null,null,2.8571428571428571E-2,0.2,2.8571428571428571E-2,0.11428571428571428,0.34285714285714286,0.17142857142857143,0.22857142857142856,2.8571428571428571E-2,5.7142857142857141E-2]

{"sheet":"listes","index":6,"n_rows":9,"n_cols":4,"rows_kept":9,"cut":false,"hidden":false,"merged":[]}
["Ref \nembarc.","Matric.\n loueur","Noms prénoms","Heures"]
["CAT1","N1P1","DUPONT Jean",10]
["CAT2","N2P2","DURAND Dan",11]
["CAT4","N4P4","NOM1 Prénom1",13]
["DRV1","N5P5","NOM2 Prénom2",14]
[null,null,"NOM3 Prénom3",15]
[null,null,"NOM4 Prénom4",16]
[null,null,"NOM5 Prénom5",17]
[null,null,null,18]